BEGIN:VCALENDAR
VERSION:2.0
PRODID:icalendar-ruby
CALSCALE:GREGORIAN
METHOD:PUBLISH
BEGIN:VEVENT
DTSTAMP:20260422T012210Z
UID:8-1242698@goodnewsriverside.org
DTSTART:20261102T050000Z
DTEND:20261102T060000Z
CLASS:PUBLIC
CREATED:20260421T174333
DESCRIPTION:
LAST-MODIFIED:20260421T174333
LOCATION:Sanctuary
SUMMARY:SUNDAY SERVICES
URL;VALUE=URI:https://goodnewsriverside.org/events/sunday-services/2026-11-
 01
END:VEVENT
END:VCALENDAR
