BEGIN:VCALENDAR
VERSION:2.0
PRODID:icalendar-ruby
CALSCALE:GREGORIAN
METHOD:PUBLISH
BEGIN:VEVENT
DTSTAMP:20260421T234147Z
UID:8-1242124@goodnewsriverside.org
DTSTART:20261026T040000Z
DTEND:20261026T050000Z
CLASS:PUBLIC
CREATED:20260421T150456
DESCRIPTION:
LAST-MODIFIED:20260421T150456
LOCATION:Sanctuary
SUMMARY:SUNDAY SERVICES
URL;VALUE=URI:https://goodnewsriverside.org/events/sunday-services/2026-10-
 25
END:VEVENT
END:VCALENDAR
