BEGIN:VCALENDAR
VERSION:2.0
PRODID:icalendar-ruby
CALSCALE:GREGORIAN
METHOD:PUBLISH
BEGIN:VEVENT
DTSTAMP:20260421T214935Z
UID:8-1241550@goodnewsriverside.org
DTSTART:20261019T040000Z
DTEND:20261019T050000Z
CLASS:PUBLIC
CREATED:20260421T122725
DESCRIPTION:
LAST-MODIFIED:20260421T122725
LOCATION:Sanctuary
SUMMARY:SUNDAY SERVICES
URL;VALUE=URI:https://goodnewsriverside.org/events/sunday-services/2026-10-
 18
END:VEVENT
END:VCALENDAR
