BEGIN:VCALENDAR
VERSION:2.0
PRODID:icalendar-ruby
CALSCALE:GREGORIAN
METHOD:PUBLISH
BEGIN:VEVENT
DTSTAMP:20260421T184057Z
UID:8-1240975@goodnewsriverside.org
DTSTART:20261005T040000Z
DTEND:20261005T050000Z
CLASS:PUBLIC
CREATED:20260421T095006
DESCRIPTION:
LAST-MODIFIED:20260421T095006
LOCATION:Sanctuary
SUMMARY:SUNDAY SERVICES
URL;VALUE=URI:https://goodnewsriverside.org/events/sunday-services/2026-10-
 04
END:VEVENT
END:VCALENDAR
