BEGIN:VCALENDAR
VERSION:2.0
PRODID:icalendar-ruby
CALSCALE:GREGORIAN
METHOD:PUBLISH
BEGIN:VEVENT
DTSTAMP:20260421T154524Z
UID:8-1240400@goodnewsriverside.org
DTSTART:20260921T040000Z
DTEND:20260921T050000Z
CLASS:PUBLIC
CREATED:20260421T071131
DESCRIPTION:
LAST-MODIFIED:20260421T071131
LOCATION:Sanctuary
SUMMARY:SUNDAY SERVICES
URL;VALUE=URI:https://goodnewsriverside.org/events/sunday-services/2026-09-
 20
END:VEVENT
END:VCALENDAR
