BEGIN:VCALENDAR
VERSION:2.0
PRODID:icalendar-ruby
CALSCALE:GREGORIAN
METHOD:PUBLISH
BEGIN:VEVENT
DTSTAMP:20260421T214639Z
UID:5-1241358@goodnewsriverside.org
DTSTART:20261101T190000Z
DTEND:20261101T200000Z
CLASS:PUBLIC
CREATED:20260421T122725
DESCRIPTION:Sunday Worship
LAST-MODIFIED:20260421T122725
LOCATION:Sanctuary
SUMMARY:Sunday Services
URL;VALUE=URI:https://goodnewsriverside.org/events/sunday-services--5/2026-
 11-01
END:VEVENT
END:VCALENDAR
