BEGIN:VCALENDAR
VERSION:2.0
PRODID:icalendar-ruby
CALSCALE:GREGORIAN
METHOD:PUBLISH
BEGIN:VEVENT
DTSTAMP:20260421T171349Z
UID:5-1240782@goodnewsriverside.org
DTSTART:20261011T180000Z
DTEND:20261011T190000Z
CLASS:PUBLIC
CREATED:20260421T095006
DESCRIPTION:Sunday Worship
LAST-MODIFIED:20260421T095006
LOCATION:Sanctuary
SUMMARY:Sunday Services
URL;VALUE=URI:https://goodnewsriverside.org/events/sunday-services--5/2026-
 10-11
END:VEVENT
END:VCALENDAR
