BEGIN:VCALENDAR
VERSION:2.0
PRODID:icalendar-ruby
CALSCALE:GREGORIAN
METHOD:PUBLISH
BEGIN:VEVENT
DTSTAMP:20260421T154436Z
UID:5-1240208@goodnewsriverside.org
DTSTART:20261004T180000Z
DTEND:20261004T190000Z
CLASS:PUBLIC
CREATED:20260421T071131
DESCRIPTION:Sunday Worship
LAST-MODIFIED:20260421T071131
LOCATION:Sanctuary
SUMMARY:Sunday Services
URL;VALUE=URI:https://goodnewsriverside.org/events/sunday-services--5/2026-
 10-04
END:VEVENT
END:VCALENDAR
