BEGIN:VCALENDAR
VERSION:2.0
PRODID:icalendar-ruby
CALSCALE:GREGORIAN
METHOD:PUBLISH
BEGIN:VEVENT
DTSTAMP:20260421T140824Z
UID:5-1239634@goodnewsriverside.org
DTSTART:20260927T180000Z
DTEND:20260927T190000Z
CLASS:PUBLIC
CREATED:20260421T043551
DESCRIPTION:Sunday Worship
LAST-MODIFIED:20260421T043551
LOCATION:Sanctuary
SUMMARY:Sunday Services
URL;VALUE=URI:https://goodnewsriverside.org/events/sunday-services--5/2026-
 09-27
END:VEVENT
END:VCALENDAR
